BEGIN:VCALENDAR
VERSION:2.0
PRODID:-//Tukios.com/
BEGIN:VEVENT
UID:f9d77ac3-6fe3-486a-9ded-fcf7505788e0@www.hansenfuneralhome.net
DTSTAMP:20260421T172716Z
DTSTART:20260516T160000Z
DTEND:20260516T170000Z
SUMMARY:Visitation
DESCRIPTION:
URL:https://www.hansenfuneralhome.net/obituaries/joan-whitman
LOCATION: 404 Dayton St  Davison MI 48423
GEO:43.0333148;-83.520754
END:VEVENT
END:VCALENDAR