BEGIN:VCALENDAR
VERSION:2.0
PRODID:-//Tukios.com/
BEGIN:VEVENT
UID:1514d70f-346f-4bfd-bbcd-cd6b637a30cd@www.hansenfuneralhome.net
DTSTAMP:20260421T172747Z
DTSTART:20260516T170000Z
DTEND:20260516T180000Z
SUMMARY:Mass
DESCRIPTION:
URL:https://www.hansenfuneralhome.net/obituaries/joan-whitman
LOCATION: 404 Dayton St  Davison MI 48423
GEO:43.0333148;-83.520754
END:VEVENT
END:VCALENDAR